BEGIN:VCALENDAR
VERSION:2.0
PRODID:-//Oakwoods Homeowners Association - ECPv6.15.20//NONSGML v1.0//EN
CALSCALE:GREGORIAN
METHOD:PUBLISH
X-ORIGINAL-URL:https://www.oakwoodshomeowners.org
X-WR-CALDESC:Events for Oakwoods Homeowners Association
REFRESH-INTERVAL;VALUE=DURATION:PT1H
X-Robots-Tag:noindex
X-PUBLISHED-TTL:PT1H
BEGIN:VTIMEZONE
TZID:America/Chicago
BEGIN:DAYLIGHT
TZOFFSETFROM:-0600
TZOFFSETTO:-0500
TZNAME:CDT
DTSTART:20240310T080000
END:DAYLIGHT
BEGIN:STANDARD
TZOFFSETFROM:-0500
TZOFFSETTO:-0600
TZNAME:CST
DTSTART:20241103T070000
END:STANDARD
BEGIN:DAYLIGHT
TZOFFSETFROM:-0600
TZOFFSETTO:-0500
TZNAME:CDT
DTSTART:20250309T080000
END:DAYLIGHT
BEGIN:STANDARD
TZOFFSETFROM:-0500
TZOFFSETTO:-0600
TZNAME:CST
DTSTART:20251102T070000
END:STANDARD
BEGIN:DAYLIGHT
TZOFFSETFROM:-0600
TZOFFSETTO:-0500
TZNAME:CDT
DTSTART:20260308T080000
END:DAYLIGHT
BEGIN:STANDARD
TZOFFSETFROM:-0500
TZOFFSETTO:-0600
TZNAME:CST
DTSTART:20261101T070000
END:STANDARD
END:VTIMEZONE
BEGIN:VEVENT
DTSTART;TZID=America/Chicago:20250218T180000
DTEND;TZID=America/Chicago:20250218T190000
DTSTAMP:20260423T092845
CREATED:20241013T044909Z
LAST-MODIFIED:20250119T195645Z
UID:776-1739901600-1739905200@www.oakwoodshomeowners.org
SUMMARY:OHA Board Meeting
DESCRIPTION:All Oakwoods residents are welcome to attend the monthly board meeting. Please contact the board if you’d like the link to join on Zoom.
URL:https://www.oakwoodshomeowners.org/event/oha-board-meeting-3/
LOCATION:Zoom
CATEGORIES:Board Meetings
ATTACH;FMTTYPE=image/jpeg:https://www.oakwoodshomeowners.org/wp-content/uploads/Woodhavens-Oakwoods-Sign-Wide-1.jpeg
END:VEVENT
END:VCALENDAR