BEGIN:VCALENDAR
VERSION:2.0
PRODID:-//Oakwoods Homeowners Association - ECPv6.15.20//NONSGML v1.0//EN
CALSCALE:GREGORIAN
METHOD:PUBLISH
X-WR-CALNAME:Oakwoods Homeowners Association
X-ORIGINAL-URL:https://www.oakwoodshomeowners.org
X-WR-CALDESC:Events for Oakwoods Homeowners Association
REFRESH-INTERVAL;VALUE=DURATION:PT1H
X-Robots-Tag:noindex
X-PUBLISHED-TTL:PT1H
BEGIN:VTIMEZONE
TZID:America/Chicago
BEGIN:DAYLIGHT
TZOFFSETFROM:-0600
TZOFFSETTO:-0500
TZNAME:CDT
DTSTART:20230312T080000
END:DAYLIGHT
BEGIN:STANDARD
TZOFFSETFROM:-0500
TZOFFSETTO:-0600
TZNAME:CST
DTSTART:20231105T070000
END:STANDARD
BEGIN:DAYLIGHT
TZOFFSETFROM:-0600
TZOFFSETTO:-0500
TZNAME:CDT
DTSTART:20240310T080000
END:DAYLIGHT
BEGIN:STANDARD
TZOFFSETFROM:-0500
TZOFFSETTO:-0600
TZNAME:CST
DTSTART:20241103T070000
END:STANDARD
BEGIN:DAYLIGHT
TZOFFSETFROM:-0600
TZOFFSETTO:-0500
TZNAME:CDT
DTSTART:20250309T080000
END:DAYLIGHT
BEGIN:STANDARD
TZOFFSETFROM:-0500
TZOFFSETTO:-0600
TZNAME:CST
DTSTART:20251102T070000
END:STANDARD
BEGIN:DAYLIGHT
TZOFFSETFROM:-0600
TZOFFSETTO:-0500
TZNAME:CDT
DTSTART:20260308T080000
END:DAYLIGHT
BEGIN:STANDARD
TZOFFSETFROM:-0500
TZOFFSETTO:-0600
TZNAME:CST
DTSTART:20261101T070000
END:STANDARD
BEGIN:DAYLIGHT
TZOFFSETFROM:-0600
TZOFFSETTO:-0500
TZNAME:CDT
DTSTART:20270314T080000
END:DAYLIGHT
BEGIN:STANDARD
TZOFFSETFROM:-0500
TZOFFSETTO:-0600
TZNAME:CST
DTSTART:20271107T070000
END:STANDARD
END:VTIMEZONE
BEGIN:VEVENT
DTSTART;TZID=America/Chicago:20240716T183000
DTEND;TZID=America/Chicago:20240716T193000
DTSTAMP:20260425T094331
CREATED:20240206T153647Z
LAST-MODIFIED:20240724T152253Z
UID:485-1721154600-1721158200@www.oakwoodshomeowners.org
SUMMARY:Canceled — OHA Board Meeting
DESCRIPTION:This board meeting has been canceled due to a lack of topics. Please join us for the next meeting or contact us with any concerns.
URL:https://www.oakwoodshomeowners.org/event/ohaboardmeeting07162024/
LOCATION:Paul Baker Pavilion\, Oakwoods Park\, Bloomington\, IL\, 61701
CATEGORIES:Board Meetings
ATTACH;FMTTYPE=image/jpeg:https://www.oakwoodshomeowners.org/wp-content/uploads/Oakwoods-Sign-scaled.jpeg
END:VEVENT
BEGIN:VEVENT
DTSTART;TZID=America/Chicago:20240820T183000
DTEND;TZID=America/Chicago:20240820T193000
DTSTAMP:20260425T094331
CREATED:20240207T152511Z
LAST-MODIFIED:20240207T152630Z
UID:487-1724178600-1724182200@www.oakwoodshomeowners.org
SUMMARY:OHA Board Meeting
DESCRIPTION:All Oakwoods residents are welcome to attend the monthly board meeting.
URL:https://www.oakwoodshomeowners.org/event/ohaboardmeeting08202024/
LOCATION:Paul Baker Pavilion\, Oakwoods Park\, Bloomington\, IL\, 61701
CATEGORIES:Board Meetings
ATTACH;FMTTYPE=image/jpeg:https://www.oakwoodshomeowners.org/wp-content/uploads/Oakwoods-Sign-scaled.jpeg
END:VEVENT
BEGIN:VEVENT
DTSTART;TZID=America/Chicago:20240917T183000
DTEND;TZID=America/Chicago:20240917T193000
DTSTAMP:20260425T094331
CREATED:20240207T152900Z
LAST-MODIFIED:20240207T152900Z
UID:489-1726597800-1726601400@www.oakwoodshomeowners.org
SUMMARY:OHA Board Elections
DESCRIPTION:All Oakwoods homeowners are encouraged to vote at the OHA board election.
URL:https://www.oakwoodshomeowners.org/event/oha-board-elections/
LOCATION:Paul Baker Pavilion\, Oakwoods Park\, Bloomington\, IL\, 61701
CATEGORIES:Board Elections
ATTACH;FMTTYPE=image/jpeg:https://www.oakwoodshomeowners.org/wp-content/uploads/Oakwoods-Sign-scaled.jpeg
END:VEVENT
BEGIN:VEVENT
DTSTART;TZID=America/Chicago:20241015T183000
DTEND;TZID=America/Chicago:20241015T193000
DTSTAMP:20260425T094331
CREATED:20241013T044523Z
LAST-MODIFIED:20241013T044523Z
UID:772-1729017000-1729020600@www.oakwoodshomeowners.org
SUMMARY:OHA Board Meeting
DESCRIPTION:All Oakwoods residents are welcome to attend the monthly board meeting.
URL:https://www.oakwoodshomeowners.org/event/oha-board-meeting/
LOCATION:Paul Baker Pavilion\, Oakwoods Park\, Bloomington\, IL\, 61701
CATEGORIES:Board Meetings
ATTACH;FMTTYPE=image/jpeg:https://www.oakwoodshomeowners.org/wp-content/uploads/Woodhavens-Oakwoods-Sign-Wide-1.jpeg
END:VEVENT
BEGIN:VEVENT
DTSTART;TZID=America/Chicago:20241217T183000
DTEND;TZID=America/Chicago:20241217T193000
DTSTAMP:20260425T094331
CREATED:20241013T044758Z
LAST-MODIFIED:20241018T181117Z
UID:774-1734460200-1734463800@www.oakwoodshomeowners.org
SUMMARY:OHA Board Meeting
DESCRIPTION:All Oakwoods residents are welcome to attend the monthly board meeting.
URL:https://www.oakwoodshomeowners.org/event/oha-board-meeting-2/
LOCATION:Wendell Niepagen Greenhouses\, 2010 Fox Creek Road\, Bloomington\, IL\, 61701\, United States
CATEGORIES:Board Meetings
ATTACH;FMTTYPE=image/jpeg:https://www.oakwoodshomeowners.org/wp-content/uploads/Woodhavens-Oakwoods-Sign-Wide-1.jpeg
END:VEVENT
BEGIN:VEVENT
DTSTART;TZID=America/Chicago:20250218T180000
DTEND;TZID=America/Chicago:20250218T190000
DTSTAMP:20260425T094331
CREATED:20241013T044909Z
LAST-MODIFIED:20250119T195645Z
UID:776-1739901600-1739905200@www.oakwoodshomeowners.org
SUMMARY:OHA Board Meeting
DESCRIPTION:All Oakwoods residents are welcome to attend the monthly board meeting. Please contact the board if you’d like the link to join on Zoom.
URL:https://www.oakwoodshomeowners.org/event/oha-board-meeting-3/
LOCATION:Zoom
CATEGORIES:Board Meetings
ATTACH;FMTTYPE=image/jpeg:https://www.oakwoodshomeowners.org/wp-content/uploads/Woodhavens-Oakwoods-Sign-Wide-1.jpeg
END:VEVENT
BEGIN:VEVENT
DTSTART;TZID=America/Chicago:20250415T180000
DTEND;TZID=America/Chicago:20250415T190000
DTSTAMP:20260425T094331
CREATED:20241013T045126Z
LAST-MODIFIED:20250119T194921Z
UID:778-1744740000-1744743600@www.oakwoodshomeowners.org
SUMMARY:OHA Board Meeting
DESCRIPTION:All Oakwoods residents are welcome to attend the monthly board meeting.
URL:https://www.oakwoodshomeowners.org/event/oha-board-meeting-4/
LOCATION:Paul Baker Pavilion\, Oakwoods Park\, Bloomington\, IL\, 61701
CATEGORIES:Board Meetings
ATTACH;FMTTYPE=image/jpeg:https://www.oakwoodshomeowners.org/wp-content/uploads/Woodhavens-Oakwoods-Sign-Wide-1.jpeg
END:VEVENT
BEGIN:VEVENT
DTSTART;TZID=America/Chicago:20250617T180000
DTEND;TZID=America/Chicago:20250617T190000
DTSTAMP:20260425T094331
CREATED:20241013T045317Z
LAST-MODIFIED:20250119T194819Z
UID:780-1750183200-1750186800@www.oakwoodshomeowners.org
SUMMARY:OHA Annual Meeting
DESCRIPTION:All Oakwoods residents are welcome and encouraged to attend the annual meeting.
URL:https://www.oakwoodshomeowners.org/event/oha-board-meeting-5/
LOCATION:Paul Baker Pavilion\, Oakwoods Park\, Bloomington\, IL\, 61701
CATEGORIES:Board Meetings
ATTACH;FMTTYPE=image/jpeg:https://www.oakwoodshomeowners.org/wp-content/uploads/Woodhavens-Oakwoods-Sign-Wide-1.jpeg
END:VEVENT
BEGIN:VEVENT
DTSTART;TZID=America/Chicago:20250821T180000
DTEND;TZID=America/Chicago:20250821T190000
DTSTAMP:20260425T094331
CREATED:20241013T045512Z
LAST-MODIFIED:20250812T003942Z
UID:782-1755799200-1755802800@www.oakwoodshomeowners.org
SUMMARY:OHA Board Meeting
DESCRIPTION:All Oakwoods residents are welcome to attend the board meeting.
URL:https://www.oakwoodshomeowners.org/event/oha-board-meeting08212025/
LOCATION:Paul Baker Pavilion\, Oakwoods Park\, Bloomington\, IL\, 61701
CATEGORIES:Board Meetings
ATTACH;FMTTYPE=image/jpeg:https://www.oakwoodshomeowners.org/wp-content/uploads/Woodhavens-Oakwoods-Sign-Wide-1.jpeg
END:VEVENT
BEGIN:VEVENT
DTSTART;TZID=America/Chicago:20250916T180000
DTEND;TZID=America/Chicago:20250916T190000
DTSTAMP:20260425T094331
CREATED:20241013T050031Z
LAST-MODIFIED:20250119T195137Z
UID:784-1758045600-1758049200@www.oakwoodshomeowners.org
SUMMARY:OHA Board Elections
DESCRIPTION:All Oakwoods homeowners are encouraged to vote at the OHA board election.
URL:https://www.oakwoodshomeowners.org/event/oha-board-elections-2/
LOCATION:Paul Baker Pavilion\, Oakwoods Park\, Bloomington\, IL\, 61701
CATEGORIES:Board Elections
ATTACH;FMTTYPE=image/jpeg:https://www.oakwoodshomeowners.org/wp-content/uploads/Woodhavens-Oakwoods-Sign-Wide-1.jpeg
END:VEVENT
BEGIN:VEVENT
DTSTART;TZID=America/Chicago:20251014T180000
DTEND;TZID=America/Chicago:20251014T190000
DTSTAMP:20260425T094331
CREATED:20251002T044606Z
LAST-MODIFIED:20251002T044606Z
UID:998-1760464800-1760468400@www.oakwoodshomeowners.org
SUMMARY:OHA Board Meeting
DESCRIPTION:All Oakwoods residents are welcome to attend the board meeting.
URL:https://www.oakwoodshomeowners.org/event/oha-board-meeting-6/
LOCATION:Paul Baker Pavilion\, Oakwoods Park\, Bloomington\, IL\, 61701
CATEGORIES:Board Meetings
ATTACH;FMTTYPE=image/jpeg:https://www.oakwoodshomeowners.org/wp-content/uploads/Woodhavens-Oakwoods-Sign.jpeg
END:VEVENT
BEGIN:VEVENT
DTSTART;TZID=America/Chicago:20251216T180000
DTEND;TZID=America/Chicago:20251216T190000
DTSTAMP:20260425T094331
CREATED:20251002T044948Z
LAST-MODIFIED:20251002T044948Z
UID:1000-1765908000-1765911600@www.oakwoodshomeowners.org
SUMMARY:OHA Board Meeting
DESCRIPTION:All Oakwoods residents are welcome to attend the board meeting. \n*Zoom call links will be sent via email the day before the meeting. Please email boardmembers@oakwoodshomeowners.org if you’d like the link.
URL:https://www.oakwoodshomeowners.org/event/oha-board-meeting-7/
LOCATION:Zoom
CATEGORIES:Board Meetings
ATTACH;FMTTYPE=image/jpeg:https://www.oakwoodshomeowners.org/wp-content/uploads/Woodhavens-Oakwoods-Sign.jpeg
END:VEVENT
BEGIN:VEVENT
DTSTART;TZID=America/Chicago:20260217T180000
DTEND;TZID=America/Chicago:20260217T190000
DTSTAMP:20260425T094331
CREATED:20251002T045251Z
LAST-MODIFIED:20260215T174355Z
UID:1004-1771351200-1771354800@www.oakwoodshomeowners.org
SUMMARY:OHA Board Meeting
DESCRIPTION:All Oakwoods residents are welcome to attend the board meeting. \n*Zoom call links will be sent via email the day before the meeting. Please email boardmembers@oakwoodshomeowners.org if you’d like the link.
URL:https://www.oakwoodshomeowners.org/event/oha-board-meeting-9/
LOCATION:Bloomington Public Library\, 205 E Olive St\, Bloomington\, IL\, 61701
CATEGORIES:Board Meetings
ATTACH;FMTTYPE=image/jpeg:https://www.oakwoodshomeowners.org/wp-content/uploads/Woodhavens-Oakwoods-Sign.jpeg
END:VEVENT
BEGIN:VEVENT
DTSTART;TZID=America/Chicago:20260421T180000
DTEND;TZID=America/Chicago:20260421T190000
DTSTAMP:20260425T094331
CREATED:20251002T045150Z
LAST-MODIFIED:20251002T045341Z
UID:1002-1776794400-1776798000@www.oakwoodshomeowners.org
SUMMARY:OHA Board Meeting
DESCRIPTION:All Oakwoods residents are welcome to attend the board meeting. \nMeeting will be held via Zoom in the event of inclement weather. Zoom call links will be sent via email the day before the meeting. Please email boardmembers@oakwoodshomeowners.org if you’d like the link.
URL:https://www.oakwoodshomeowners.org/event/oha-board-meeting-8/
LOCATION:Paul Baker Pavilion\, Oakwoods Park\, Bloomington\, IL\, 61701
CATEGORIES:Board Meetings
ATTACH;FMTTYPE=image/jpeg:https://www.oakwoodshomeowners.org/wp-content/uploads/Woodhavens-Oakwoods-Sign.jpeg
END:VEVENT
BEGIN:VEVENT
DTSTART;TZID=America/Chicago:20260616T180000
DTEND;TZID=America/Chicago:20260616T190000
DTSTAMP:20260425T094331
CREATED:20251002T045558Z
LAST-MODIFIED:20251002T045558Z
UID:1006-1781632800-1781636400@www.oakwoodshomeowners.org
SUMMARY:OHA Annual Meeting
DESCRIPTION:All Oakwoods residents are welcome and encouraged to attend the annual meeting.
URL:https://www.oakwoodshomeowners.org/event/oha-annual-meeting/
LOCATION:Paul Baker Pavilion\, Oakwoods Park\, Bloomington\, IL\, 61701
CATEGORIES:Board Meetings
ATTACH;FMTTYPE=image/jpeg:https://www.oakwoodshomeowners.org/wp-content/uploads/Woodhavens-Oakwoods-Sign.jpeg
END:VEVENT
BEGIN:VEVENT
DTSTART;TZID=America/Chicago:20260818T180000
DTEND;TZID=America/Chicago:20260818T190000
DTSTAMP:20260425T094331
CREATED:20251002T050452Z
LAST-MODIFIED:20251002T050452Z
UID:1010-1787076000-1787079600@www.oakwoodshomeowners.org
SUMMARY:OHA Board Meeting
DESCRIPTION:All Oakwoods residents are welcome to attend the board meeting.
URL:https://www.oakwoodshomeowners.org/event/oha-board-meeting-10/
LOCATION:Paul Baker Pavilion\, Oakwoods Park\, Bloomington\, IL\, 61701
CATEGORIES:Board Meetings
ATTACH;FMTTYPE=image/jpeg:https://www.oakwoodshomeowners.org/wp-content/uploads/Woodhavens-Oakwoods-Sign.jpeg
END:VEVENT
BEGIN:VEVENT
DTSTART;TZID=America/Chicago:20260908T180000
DTEND;TZID=America/Chicago:20260908T190000
DTSTAMP:20260425T094331
CREATED:20251002T050916Z
LAST-MODIFIED:20251002T050916Z
UID:1012-1788890400-1788894000@www.oakwoodshomeowners.org
SUMMARY:OHA Board and SIP Committee Elections
DESCRIPTION:All Oakwoods homeowners are encouraged to vote at the OHA board and SIP committee elections.
URL:https://www.oakwoodshomeowners.org/event/oha-board-and-sip-committee-elections/
LOCATION:Paul Baker Pavilion\, Oakwoods Park\, Bloomington\, IL\, 61701
CATEGORIES:Board Elections
ATTACH;FMTTYPE=image/jpeg:https://www.oakwoodshomeowners.org/wp-content/uploads/Woodhavens-Oakwoods-Sign.jpeg
END:VEVENT
END:VCALENDAR