BEGIN:VCALENDAR
VERSION:2.0
PRODID:-//Oakwoods Homeowners Association - ECPv6.15.20//NONSGML v1.0//EN
CALSCALE:GREGORIAN
METHOD:PUBLISH
X-WR-CALNAME:Oakwoods Homeowners Association
X-ORIGINAL-URL:https://www.oakwoodshomeowners.org
X-WR-CALDESC:Events for Oakwoods Homeowners Association
REFRESH-INTERVAL;VALUE=DURATION:PT1H
X-Robots-Tag:noindex
X-PUBLISHED-TTL:PT1H
BEGIN:VTIMEZONE
TZID:America/Chicago
BEGIN:DAYLIGHT
TZOFFSETFROM:-0600
TZOFFSETTO:-0500
TZNAME:CDT
DTSTART:20220313T080000
END:DAYLIGHT
BEGIN:STANDARD
TZOFFSETFROM:-0500
TZOFFSETTO:-0600
TZNAME:CST
DTSTART:20221106T070000
END:STANDARD
BEGIN:DAYLIGHT
TZOFFSETFROM:-0600
TZOFFSETTO:-0500
TZNAME:CDT
DTSTART:20230312T080000
END:DAYLIGHT
BEGIN:STANDARD
TZOFFSETFROM:-0500
TZOFFSETTO:-0600
TZNAME:CST
DTSTART:20231105T070000
END:STANDARD
BEGIN:DAYLIGHT
TZOFFSETFROM:-0600
TZOFFSETTO:-0500
TZNAME:CDT
DTSTART:20240310T080000
END:DAYLIGHT
BEGIN:STANDARD
TZOFFSETFROM:-0500
TZOFFSETTO:-0600
TZNAME:CST
DTSTART:20241103T070000
END:STANDARD
END:VTIMEZONE
BEGIN:VEVENT
DTSTART;TZID=America/Chicago:20230601T183000
DTEND;TZID=America/Chicago:20230601T193000
DTSTAMP:20260421T184946
CREATED:20230319T033526Z
LAST-MODIFIED:20230319T033526Z
UID:399-1685644200-1685647800@www.oakwoodshomeowners.org
SUMMARY:OHA Board Meeting
DESCRIPTION:All Oakwoods residents are welcome to attend the monthly board meeting.
URL:https://www.oakwoodshomeowners.org/event/ohaboardmeeting06012023/
LOCATION:Paul Baker Pavilion\, Oakwoods Park\, Bloomington\, IL\, 61701
CATEGORIES:Board Meetings
ATTACH;FMTTYPE=image/jpeg:https://www.oakwoodshomeowners.org/wp-content/uploads/Oakwoods-Sign-scaled.jpeg
END:VEVENT
BEGIN:VEVENT
DTSTART;VALUE=DATE:20230519
DTEND;VALUE=DATE:20230521
DTSTAMP:20260421T184946
CREATED:20230319T040935Z
LAST-MODIFIED:20230319T040935Z
UID:409-1684454400-1684627199@www.oakwoodshomeowners.org
SUMMARY:Oakwoods Spring Garage Sale
DESCRIPTION:Oakwoods homeowners are invited to hold their garage sales on Friday and/or Saturday. Stay tuned for a map of the sales and a list of featured items.
URL:https://www.oakwoodshomeowners.org/event/springgaragesale2023/
LOCATION:Oakwoods Subdivision\, Bloomington\, IL\, 61701
CATEGORIES:Garage Sales
ATTACH;FMTTYPE=image/jpeg:https://www.oakwoodshomeowners.org/wp-content/uploads/Oakwoods-Sign-scaled.jpeg
END:VEVENT
BEGIN:VEVENT
DTSTART;TZID=America/Chicago:20230518T170000
DTEND;TZID=America/Chicago:20230518T200000
DTSTAMP:20260421T184946
CREATED:20230319T042517Z
LAST-MODIFIED:20230319T042517Z
UID:418-1684429200-1684440000@www.oakwoodshomeowners.org
SUMMARY:Food Truck - The Station
DESCRIPTION:Oakwoods is proud to host The Station once again this year. Swing by to purchase some tasty dinner then head to the park to socialize with your neighbors!\nThe truck will be parked on Juniper Lane at the sidewalk entrance to the park (where the Bookmobile parks).
URL:https://www.oakwoodshomeowners.org/event/foodtruck05182023/
LOCATION:Oakwoods Park Entrance\, Bloomington\, IL
CATEGORIES:Food Trucks
END:VEVENT
BEGIN:VEVENT
DTSTART;TZID=America/Chicago:20230504T183000
DTEND;TZID=America/Chicago:20230504T193000
DTSTAMP:20260421T184946
CREATED:20230304T023559Z
LAST-MODIFIED:20230319T033753Z
UID:397-1683225000-1683228600@www.oakwoodshomeowners.org
SUMMARY:OHA Board Meeting
DESCRIPTION:All Oakwoods residents are welcome to attend the monthly board meeting.
URL:https://www.oakwoodshomeowners.org/event/ohaboardmeeting05042023/
LOCATION:Paul Baker Pavilion\, Oakwoods Park\, Bloomington\, IL\, 61701
CATEGORIES:Board Meetings
ATTACH;FMTTYPE=image/jpeg:https://www.oakwoodshomeowners.org/wp-content/uploads/Oakwoods-Sign-scaled.jpeg
END:VEVENT
BEGIN:VEVENT
DTSTART;TZID=America/Chicago:20230420T170000
DTEND;TZID=America/Chicago:20230420T200000
DTSTAMP:20260421T184946
CREATED:20230319T041709Z
LAST-MODIFIED:20230319T041709Z
UID:412-1682010000-1682020800@www.oakwoodshomeowners.org
SUMMARY:Food Truck - Tony’s on Wheels
DESCRIPTION:Oakwoods is proud to host Tony’s on Wheels. Come on out for our first food truck of the season! Purchase some tasty dinner then head to the park to socialize with your neighbors!\nThe truck will be parked on Juniper Lane at the sidewalk entrance to the park (where the Bookmobile parks).
URL:https://www.oakwoodshomeowners.org/event/foodtruck04202023/
LOCATION:Oakwoods Park Entrance\, Bloomington\, IL
CATEGORIES:Food Trucks
END:VEVENT
BEGIN:VEVENT
DTSTART;TZID=America/Chicago:20230406T183000
DTEND;TZID=America/Chicago:20230406T193000
DTSTAMP:20260421T184946
CREATED:20230304T022343Z
LAST-MODIFIED:20230304T023657Z
UID:389-1680805800-1680809400@www.oakwoodshomeowners.org
SUMMARY:OHA Board Meeting
DESCRIPTION:Welcome to Oakwoods! \nAll Oakwoods residents are welcome to attend the monthly board meeting.
URL:https://www.oakwoodshomeowners.org/event/ohaboardmeeting04062023/
LOCATION:Paul Baker Pavilion\, Oakwoods Park\, Bloomington\, IL\, 61701
CATEGORIES:Board Meetings
END:VEVENT
END:VCALENDAR